BEGIN:VCALENDAR
VERSION:2.0
PRODID:-//The West African Health Foundation - ECPv6.15.20//NONSGML v1.0//EN
CALSCALE:GREGORIAN
METHOD:PUBLISH
X-WR-CALNAME:The West African Health Foundation
X-ORIGINAL-URL:https://wahealthfoundation.org
X-WR-CALDESC:Events for The West African Health Foundation
REFRESH-INTERVAL;VALUE=DURATION:PT1H
X-Robots-Tag:noindex
X-PUBLISHED-TTL:PT1H
BEGIN:VTIMEZONE
TZID:UTC
BEGIN:STANDARD
TZOFFSETFROM:+0000
TZOFFSETTO:+0000
TZNAME:UTC
DTSTART:20220101T000000
END:STANDARD
END:VTIMEZONE
BEGIN:VEVENT
DTSTART;TZID=UTC:20230704T090000
DTEND;TZID=UTC:20230704T170000
DTSTAMP:20260421T115137
CREATED:20230609T170041Z
LAST-MODIFIED:20230609T175056Z
UID:101-1688461200-1688490000@wahealthfoundation.org
SUMMARY:Free Eye Testing
DESCRIPTION:
URL:https://wahealthfoundation.org/event/free-eye-testing/
CATEGORIES:Outreach
ATTACH;FMTTYPE=image/jpeg:https://wahealthfoundation.org/wp-content/uploads/2023/06/Eye-Test.jpg
END:VEVENT
END:VCALENDAR